BEGIN:VCALENDAR
VERSION:2.0
PRODID:-//ChamberMaster//Event Calendar 2.0//EN
METHOD:PUBLISH
X-PUBLISHED-TTL:P3D
REFRESH-INTERVAL:P3D
CALSCALE:GREGORIAN
BEGIN:VEVENT
DTSTART:20190930T150000Z
DTEND:20191011T020000Z
X-MICROSOFT-CDO-ALLDAYEVENT:FALSE
SUMMARY:You Are Invited!
DESCRIPTION:We invite you to get to know Holland America Line's Great Land with an exciting ON STAGE ALASKA performance- including awe- inspiring Denali National Park and Yukon's spectacular wilderness. Join our Alaska & Yukon experts as they captivate you with their knowledge and enthusiasm about this magical destination.
X-ALT-DESC;FMTTYPE=text/html:We invite you to get to know Holland America Line&#39\;s Great Land with an exciting ON STAGE ALASKA performance- including awe- inspiring Denali National Park and Yukon&#39\;s spectacular wilderness. Join our Alaska &amp\; Yukon experts as they captivate you with their knowledge and enthusiasm about this magical destination.
LOCATION:Santa Rosa Veterans Building Lodge Room 1351 Maple Avenue - Santa Rosa
UID:e.3154.1474
SEQUENCE:3
DTSTAMP:20260422T144709Z
URL:https://www.rohnertparkchamber.org/events/details/you-are-invited-1474
END:VEVENT

END:VCALENDAR
