BEGIN:VCALENDAR
VERSION:2.0
PRODID:-//ChamberMaster//Event Calendar 2.0//EN
METHOD:PUBLISH
X-PUBLISHED-TTL:P3D
REFRESH-INTERVAL:P3D
CALSCALE:GREGORIAN
BEGIN:VEVENT
DTSTART:20200123T013000Z
DTEND:20200123T030000Z
X-MICROSOFT-CDO-ALLDAYEVENT:FALSE
SUMMARY:Women in Business Networking Mixer - Hosted by Essence Hair Studio
DESCRIPTION:Come join the Women in Business Committee and Essence Hair Studio for a fantastic networking mixer!\n\n	Complimentary appetizers & refreshments\n	Free to attend and open to all\n	Raffle to support SSU Female Athletic Scholarship\n	Additional Raffle Prizes
X-ALT-DESC;FMTTYPE=text/html:Come join the Women in Business Committee and Essence Hair Studio for a fantastic networking mixer!\n<ul>\n	<li>Complimentary appetizers &amp\; refreshments</li>\n	<li>Free to attend and open to all</li>\n	<li>Raffle to support SSU Female Athletic Scholarship</li>\n	<li>Additional Raffle Prizes</li>\n</ul>\n
LOCATION:Hosted by Essence Hair Salon 1 Padre Pkwy Suite F Rohnert Park\, CA 94928
UID:e.3154.1437
SEQUENCE:3
DTSTAMP:20260422T201437Z
URL:https://www.rohnertparkchamber.org/events/details/women-in-business-networking-mixer-hosted-by-essence-hair-studio-1437
END:VEVENT

END:VCALENDAR
