BEGIN:VCALENDAR
VERSION:2.0
PRODID:-//ChamberMaster//Event Calendar 2.0//EN
METHOD:PUBLISH
X-PUBLISHED-TTL:P3D
REFRESH-INTERVAL:P3D
CALSCALE:GREGORIAN
BEGIN:VEVENT
DTSTART:20200624T190000Z
DTEND:20200624T200000Z
X-MICROSOFT-CDO-ALLDAYEVENT:FALSE
SUMMARY:Women in Business Lunch'IN' Sponsored by Primerica - Michelle Martin\, Sharon Bricker-Ferris & Tatjana Janga
DESCRIPTION:Come join the Women in Business Committee and the Rohnert Park Chamber of Commerce for our bi-monthly Women in Business Luncheon! Due to the shelter-in-place\, our lunch'IN' will be virtual using Zoom. Our luncheons are a great networking opportunity and feature talented speakers whose topics are of particular relevance to women in business. All are invited to come and participate in support of women in business!\n\n\n\nThis month's lunch'IN' is brought to you by our generous sponsor:\n\n	Primerica - Michelle Martin\, Sharon Bricker-Ferris & Tatjana Janga\n\nOur featured speaker and topic will be:\n\n\n	Diana Morgan "How to Use Social Media to Monetize Your Passion"\n	\n		Discover the essential elements of a monetizable online presence that will bring you clients on-going.\n		Learn how to harness the power of the internet to have a sustainable business and life!\n		Leave with an internet marketing strategy to grow your brand\, position yourself as the expert in your field and reach your ideal clients.
X-ALT-DESC;FMTTYPE=text/html:Come join the Women in Business Committee and the Rohnert Park Chamber of Commerce for our bi-monthly Women in Business Luncheon! Due to the shelter-in-place\, our lunch&#39\;IN&#39\; will be virtual using Zoom. Our luncheons are a great networking opportunity and feature talented speakers whose topics are of particular relevance to women in business. All are invited to come and participate in support of women in business!<br />\n<br />\nThis month&#39\;s lunch&#39\;IN&#39\; is brought to you by our generous sponsor:\n<ul>\n	<li>Primerica - Michelle Martin\,&nbsp\;Sharon Bricker-Ferris &amp\; Tatjana Janga</li>\n</ul>\nOur featured speaker and topic will be:\n\n<ul>\n	<li>Diana Morgan &quot\;How to Use Social Media to Monetize Your Passion&quot\;\n	<ul>\n		<li>Discover the essential elements of a monetizable&nbsp\;online presence that will bring you clients on-going.</li>\n		<li>Learn how to harness the power of the internet to have a sustainable business and life!</li>\n		<li>Leave with an internet marketing strategy to grow your brand\, position yourself as the expert in your field and reach your ideal clients.</li>\n	</ul>\n	</li>\n</ul>\n
LOCATION:Virtual Zoom Meeting at your office or home Zoom Mtg Login: Meeting ID: 880 7219 1606 Password: 779963 Dial In: (669) 900-9128
UID:e.3154.1446
SEQUENCE:3
DTSTAMP:20260421T084047Z
URL:https://www.rohnertparkchamber.org/events/details/women-in-business-lunch-in-sponsored-by-primerica-michelle-martin-sharon-bricker-ferris-tatjana-janga-1446
END:VEVENT

END:VCALENDAR
