BEGIN:VCALENDAR
VERSION:2.0
PRODID:-//ChamberMaster//Event Calendar 2.0//EN
METHOD:PUBLISH
X-PUBLISHED-TTL:P3D
REFRESH-INTERVAL:P3D
CALSCALE:GREGORIAN
BEGIN:VEVENT
DTSTART:20191210T194500Z
DTEND:20191210T211500Z
X-MICROSOFT-CDO-ALLDAYEVENT:FALSE
SUMMARY:Women in Business Holiday Social & Gift Exchange - Sponsored by Fundemonium
DESCRIPTION:Come join the Women in Business Committee and the Rohnert Park Chamber of Commerce for our annual Women in Business Holiday Social & Gift Exchange! Our luncheons are a great networking opportunity and the December event is lots of fun with the gift exchange that includes some good-natured gift stealing! Bring a gift valued at $20. All are invited to come and participate in support of women in business!\n\n\n\nThis month's luncheon is brought to you by our generous sponsor:\n\n	Fundemonium
X-ALT-DESC;FMTTYPE=text/html:Come join the Women in Business Committee and the Rohnert Park Chamber of Commerce for our annual Women in Business Holiday Social &amp\; Gift Exchange! Our luncheons are a great networking opportunity and the December event is lots of fun with the gift exchange that includes some good-natured gift stealing! Bring a gift valued at $20. All are invited to come and participate in support of women in business!<br />\n<br />\nThis month&#39\;s luncheon is brought to you by our generous sponsor:\n<ul>\n	<li>Fundemonium&nbsp\;</li>\n</ul>\n
LOCATION:Sally Tomato's Catering & Event Center at SOMO Village 1100 Valley House Drive Rohnert Park\, CA 94928
UID:e.3154.169
SEQUENCE:3
DTSTAMP:20260422T184955Z
URL:https://www.rohnertparkchamber.org/events/details/women-in-business-holiday-social-gift-exchange-sponsored-by-fundemonium-169
END:VEVENT

END:VCALENDAR
