BEGIN:VCALENDAR
VERSION:2.0
PRODID:-//ChamberMaster//Event Calendar 2.0//EN
METHOD:PUBLISH
X-PUBLISHED-TTL:P3D
REFRESH-INTERVAL:P3D
CALSCALE:GREGORIAN
BEGIN:VEVENT
DTSTART:20191026T173000Z
DTEND:20191026T193000Z
X-MICROSOFT-CDO-ALLDAYEVENT:FALSE
SUMMARY:WINNING THE VOTE FOR WOMEN
DESCRIPTION:WINNING THE VOTE FOR WOMEN To kick off the 100th-anniversary celebration of the League of Women Voters\, the Sonoma County League and the Sonoma County Library will present a program on suffragists and their supporters. Moderated by GAYLE LeBARON\, speakers MOLLY MacGREGOR\, National Women's History Project\; ANN GALATINE\, Santa Rosa Historical Society\; MARY PAUL DODGION\, Western Sonoma County Historical Society and Museum\; and PEG ROGERS\, Sonoma County Commission on the Status of Women will discuss women's struggle to obtain the vote. The program will be held at the Rincon Valley Library 6959 Montecito Blvd.\, Santa Rosa on Saturday\, Oct. 26\, 2019\, from 10:30 am - 12:30 pm. For information call 546-5993. Seating is limited.
X-ALT-DESC;FMTTYPE=text/html:WINNING THE VOTE FOR WOMEN To kick off the 100th-anniversary celebration of the League of Women Voters\, the Sonoma County League and the Sonoma County Library will present a program on suffragists and their supporters. Moderated by GAYLE LeBARON\, speakers MOLLY MacGREGOR\, National Women&#39\;s History Project\; ANN GALATINE\, Santa Rosa Historical Society\; MARY PAUL DODGION\, Western Sonoma County Historical Society and Museum\; and PEG ROGERS\, Sonoma County Commission on the Status of Women will discuss women&#39\;s struggle to obtain the vote. The program will be held at the Rincon Valley Library 6959 Montecito Blvd.\, Santa Rosa on Saturday\, Oct. 26\, 2019\, from 10:30 am - 12:30 pm. For information call 546-5993. Seating is limited.
LOCATION:Rincon Valley Library 6959 Montecito Blvd. Santa Rosa
UID:e.3154.1479
SEQUENCE:3
DTSTAMP:20260422T161126Z
URL:https://www.rohnertparkchamber.org/events/details/winning-the-vote-for-women-1479
END:VEVENT

END:VCALENDAR
