BEGIN:VCALENDAR
VERSION:2.0
PRODID:-//ChamberMaster//Event Calendar 2.0//EN
METHOD:PUBLISH
X-PUBLISHED-TTL:P3D
REFRESH-INTERVAL:P3D
CALSCALE:GREGORIAN
BEGIN:VEVENT
DTSTART:20190929T200000Z
DTEND:20190929T230000Z
X-MICROSOFT-CDO-ALLDAYEVENT:FALSE
SUMMARY:Wellness Explorium-Talks\, Healings and Products
DESCRIPTION:Do you dream of a healthier you? Songbird's local practitioners and vendors can help you navigate the maze of wellness options and guide you back to body\, mind\, and spirit well being. Enjoy mini healing sessions\, talks\, demos and wellness products for PTSD\, stress\, depression\, pain\, anxiety and much more. All ages are welcome. Free to attend. Small fee for some services. Go to our Facebook page for more information\, https://www.facebook.com/events/875831919467165/. We will help you discover\, create\, and maintain your personal path to wellbeing. Join us for hypnotherapy\, energy healing\, facial massage\, yoga\, sound healing\, aromatherapy\, oracle readings and more.
X-ALT-DESC;FMTTYPE=text/html:Do you dream of a healthier you? Songbird&#39\;s local practitioners and vendors can help you navigate the maze of wellness options and guide you back to body\, mind\, and spirit well being. Enjoy mini healing sessions\, talks\, demos and wellness products for PTSD\, stress\, depression\, pain\, anxiety and much more. All ages are welcome. Free to attend. Small fee for some services. Go to our Facebook page for more information\, https://www.facebook.com/events/875831919467165/. We will help you discover\, create\, and maintain your personal path to wellbeing. Join us for hypnotherapy\, energy healing\, facial massage\, yoga\, sound healing\, aromatherapy\, oracle readings and more.
LOCATION:Songbird Community Healing Center 8299 Old Redwood Hwy\, Cotati
UID:e.3154.1452
SEQUENCE:3
DTSTAMP:20260422T144733Z
URL:https://www.rohnertparkchamber.org/events/details/wellness-explorium-talks-healings-and-products-1452
END:VEVENT

END:VCALENDAR
