BEGIN:VCALENDAR
VERSION:2.0
PRODID:-//ChamberMaster//Event Calendar 2.0//EN
METHOD:PUBLISH
X-PUBLISHED-TTL:P3D
REFRESH-INTERVAL:P3D
CALSCALE:GREGORIAN
BEGIN:VEVENT
DTSTART:20191212T033000Z
DTEND:20191212T053000Z
X-MICROSOFT-CDO-ALLDAYEVENT:FALSE
SUMMARY:Symphonic Wind Ensemble & Concert Band - Far Away Places
DESCRIPTION:Symphonic Wind Ensemble & Concert Band Andy Collinsworth\, Conductor Kim Mieder\, Guest Conductor Far Away Places Weill Hall Wednesday\, December 11\, 2019 7:30 pm Tickets are $8\, including parking Join us for an exciting evening of music for Wind Band from places near and far. Featured on this concert is SSU Trumpet professor\, Daniel Gianola-Norris performing Alexandra Pahkmutova's exotic Trumpet Concerto. ARMENIAN DANCES   KHACHATURIAN MASQUE   HESKETH CONCERTO FOR TRUMPET AND WIND ENSEMBLE   PAHKMUTOVA BLITHE BELLS   GRAINGER FINALE FROM SYMPHONY NO. 1   KALINNIKOV AND MORE!
X-ALT-DESC;FMTTYPE=text/html:Symphonic Wind Ensemble &amp\; Concert Band Andy Collinsworth\, Conductor Kim Mieder\, Guest Conductor Far Away Places Weill Hall Wednesday\, December 11\, 2019 7:30 pm Tickets are $8\, including parking Join us for an exciting evening of music for Wind Band from places near and far. Featured on this concert is SSU Trumpet professor\, Daniel Gianola-Norris performing Alexandra Pahkmutova&rsquo\;s exotic Trumpet Concerto. ARMENIAN DANCES &ndash\; KHACHATURIAN MASQUE &ndash\; HESKETH CONCERTO FOR TRUMPET AND WIND ENSEMBLE &ndash\; PAHKMUTOVA BLITHE BELLS &ndash\; GRAINGER FINALE FROM SYMPHONY NO. 1 &ndash\; KALINNIKOV AND MORE!
LOCATION:Green Music Center - Weill Hall
UID:e.3154.1513
SEQUENCE:3
DTSTAMP:20260422T184849Z
URL:https://www.rohnertparkchamber.org/events/details/symphonic-wind-ensemble-concert-band-far-away-places-1513
END:VEVENT

END:VCALENDAR
