BEGIN:VCALENDAR
VERSION:2.0
PRODID:-//ChamberMaster//Event Calendar 2.0//EN
METHOD:PUBLISH
X-PUBLISHED-TTL:P3D
REFRESH-INTERVAL:P3D
CALSCALE:GREGORIAN
BEGIN:VEVENT
DTSTART:20221106T003000Z
DTEND:20221106T013000Z
X-MICROSOFT-CDO-ALLDAYEVENT:FALSE
SUMMARY:SSU BA Liberal Studies Degree Completion Programs Info Session
DESCRIPTION:Ready to advance your career? Complete your degree while you work\, with Sonoma State University's Liberal Studies degree completion program with evening and weekend classes at SSU\, Marin\, Solano and Napa Counties and online.\n\n\n\nFinancial aid available. Apply for a Spring start today!\n\n\n\nSaturday Hybrid B.A. Liberal Studies Degree Completion @ Sonoma State University\n\nComplete your B.A. in Liberal Studies from Sonoma State University while attending 4-5 Saturday seminars per semester on campus\, with weekly online seminars. For more information\, view the website.\n\n\n\nB.A. Liberal Studies Degree Completion at North Bay Community Colleges\n\nCourses taught by SSU faculty are scheduled online and evenings/weekends at the following campuses: - College of Marin\, Indian Valley Campus (Novato) - Napa Valley College - Solano Community College (Vallejo Center) For more information\, view the website.
X-ALT-DESC;FMTTYPE=text/html:<span style="color: rgb(85\, 85\, 85)\; font-family: Raleway\, sans-serif\; font-size: 16px\; letter-spacing: 0.5px\;">Ready to advance your career? Complete your degree while you work\, with Sonoma State University&rsquo\;s Liberal Studies degree completion program with evening and weekend classes at SSU\, Marin\, Solano and Napa Counties and online.</span><br style="box-sizing: border-box\; color: rgb(85\, 85\, 85)\; font-family: Raleway\, sans-serif\; font-size: 16px\; letter-spacing: 0.5px\;" />\n<br style="box-sizing: border-box\; color: rgb(85\, 85\, 85)\; font-family: Raleway\, sans-serif\; font-size: 16px\; letter-spacing: 0.5px\;" />\n<span style="color: rgb(85\, 85\, 85)\; font-family: Raleway\, sans-serif\; font-size: 16px\; letter-spacing: 0.5px\;">Financial aid available. Apply for a Spring start today!</span><br style="box-sizing: border-box\; color: rgb(85\, 85\, 85)\; font-family: Raleway\, sans-serif\; font-size: 16px\; letter-spacing: 0.5px\;" />\n<br style="box-sizing: border-box\; color: rgb(85\, 85\, 85)\; font-family: Raleway\, sans-serif\; font-size: 16px\; letter-spacing: 0.5px\;" />\n<span style="box-sizing: border-box\; font-weight: bolder\; color: rgb(85\, 85\, 85)\; font-family: Raleway\, sans-serif\; font-size: 16px\; letter-spacing: 0.5px\;">Saturday Hybrid B.A. Liberal Studies Degree Completion @ Sonoma State University</span><br style="box-sizing: border-box\; color: rgb(85\, 85\, 85)\; font-family: Raleway\, sans-serif\; font-size: 16px\; letter-spacing: 0.5px\;" />\n<span style="color: rgb(85\, 85\, 85)\; font-family: Raleway\, sans-serif\; font-size: 16px\; letter-spacing: 0.5px\;">Complete your B.A. in Liberal Studies from Sonoma State University while attending 4-5 Saturday seminars per semester on campus\, with weekly online seminars. For more information\,&nbsp\;</span><a href="http://seie.sonoma.edu/programs/saturday-hybrid-liberal-studies-dcp" style="box-sizing: border-box\; color: rgb(12\, 131\, 175)\; text-decoration-line: none\; overflow-wrap: break-word\; font-family: Raleway\, sans-serif\; font-size: 16px\; letter-spacing: 0.5px\;"><span style="box-sizing: border-box\; color: rgb(0\, 0\, 255)\;">view the website</span></a><span style="color: rgb(85\, 85\, 85)\; font-family: Raleway\, sans-serif\; font-size: 16px\; letter-spacing: 0.5px\;">.</span><br style="box-sizing: border-box\; color: rgb(85\, 85\, 85)\; font-family: Raleway\, sans-serif\; font-size: 16px\; letter-spacing: 0.5px\;" />\n<br style="box-sizing: border-box\; color: rgb(85\, 85\, 85)\; font-family: Raleway\, sans-serif\; font-size: 16px\; letter-spacing: 0.5px\;" />\n<span style="box-sizing: border-box\; font-weight: bolder\; color: rgb(85\, 85\, 85)\; font-family: Raleway\, sans-serif\; font-size: 16px\; letter-spacing: 0.5px\;">B.A. Liberal Studies Degree Completion at North Bay Community Colleges</span><br style="box-sizing: border-box\; color: rgb(85\, 85\, 85)\; font-family: Raleway\, sans-serif\; font-size: 16px\; letter-spacing: 0.5px\;" />\n<span style="color: rgb(85\, 85\, 85)\; font-family: Raleway\, sans-serif\; font-size: 16px\; letter-spacing: 0.5px\;">Courses taught by SSU faculty are scheduled online and evenings/weekends at the following campuses: - College of Marin\, Indian Valley Campus (Novato) - Napa Valley College - Solano Community College (Vallejo Center) For more information\,&nbsp\;</span><a href="http://seie.sonoma.edu/programs/ba-liberal-studies-dcp" style="box-sizing: border-box\; color: rgb(12\, 131\, 175)\; text-decoration-line: none\; overflow-wrap: break-word\; font-family: Raleway\, sans-serif\; font-size: 16px\; letter-spacing: 0.5px\;"><span style="box-sizing: border-box\; color: rgb(0\, 0\, 255)\;">view the website</span></a><span style="color: rgb(85\, 85\, 85)\; font-family: Raleway\, sans-serif\; font-size: 16px\; letter-spacing: 0.5px\;">.</span>
LOCATION:Online via Zoom
UID:e.3154.2599
SEQUENCE:3
DTSTAMP:20260419T123748Z
URL:https://www.rohnertparkchamber.org/events/details/ssu-ba-liberal-studies-degree-completion-programs-info-session-11-05-2022-2599
END:VEVENT

END:VCALENDAR
