BEGIN:VCALENDAR
VERSION:2.0
PRODID:-//ChamberMaster//Event Calendar 2.0//EN
METHOD:PUBLISH
X-PUBLISHED-TTL:P3D
REFRESH-INTERVAL:P3D
CALSCALE:GREGORIAN
BEGIN:VEVENT
DTSTART:20191016T220000Z
DTEND:20191017T010000Z
X-MICROSOFT-CDO-ALLDAYEVENT:FALSE
SUMMARY:Sonoma Job Connections
DESCRIPTION:Sonoma Job Connections Job Fair -Face-to-face interviews with hiring managers -Free professional headshots for LinkedIn profile -Free professional advice on resumes\, cover letters -Entry-level and advanced positions! Career Development Sessions with Leap Solutions: -4:00 PM How to Market 'You' to the Hiring Manager -4:30 PM Hot Job Search Topics   Bring Your Burning Questions -5:00 PM How to Prepare for Interview Questions
X-ALT-DESC;FMTTYPE=text/html:Sonoma Job Connections Job Fair -Face-to-face interviews with hiring managers -Free professional headshots for LinkedIn profile -Free professional advice on resumes\, cover letters -Entry-level and advanced positions! Career Development Sessions with Leap Solutions: -4:00 PM How to Market &#39\;You&#39\; to the Hiring Manager -4:30 PM Hot Job Search Topics &ndash\; Bring Your Burning Questions -5:00 PM How to Prepare for Interview Questions
LOCATION:DoubleTree by Hilton Hotel Sonoma Wine Country 1 Doubletree Drive Rohnert Park\, CA 94928
UID:e.3154.1473
SEQUENCE:3
DTSTAMP:20260422T160312Z
URL:https://www.rohnertparkchamber.org/events/details/sonoma-job-connections-10-16-2019-1473
END:VEVENT

END:VCALENDAR
