BEGIN:VCALENDAR
VERSION:2.0
PRODID:-//ChamberMaster//Event Calendar 2.0//EN
METHOD:PUBLISH
X-PUBLISHED-TTL:P3D
REFRESH-INTERVAL:P3D
CALSCALE:GREGORIAN
BEGIN:VEVENT
DTSTART:20260426T170000Z
DTEND:20260426T220000Z
X-MICROSOFT-CDO-ALLDAYEVENT:FALSE
SUMMARY:Sonoma County Wildfire & Earthquake Expo 2026
DESCRIPTION:The Sonoma County Wildfire & Earthquake Expo is a free\, family-friendly event designed to help kids and families learn how to stay safe and prepared during emergencies.\n\n\n\nTaking place on April 26\, 2026\, at the Sonoma County Event Center\, the Expo features hands-on activities\, interactive exhibits\, and engaging demonstrations led by first responders\, local agencies\, and community organizations making emergency preparedness fun\, approachable\, and empowering for all ages.
X-ALT-DESC;FMTTYPE=text/html:<br />\nThe Sonoma County Wildfire &amp\; Earthquake Expo is a free\, family-friendly event designed to help kids and families learn how to stay safe and prepared during emergencies.<br />\n<br />\nTaking place on April 26\, 2026\, at the Sonoma County Event Center\, the Expo features hands-on activities\, interactive exhibits\, and engaging demonstrations led by first responders\, local agencies\, and community organizations&mdash\;making emergency preparedness fun\, approachable\, and empowering for all ages.
LOCATION:
UID:e.3154.3450
SEQUENCE:3
DTSTAMP:20260423T111715Z
URL:https://www.rohnertparkchamber.org/events/details/sonoma-county-wildfire-earthquake-expo-2026-3450
END:VEVENT

END:VCALENDAR
