BEGIN:VCALENDAR
VERSION:2.0
PRODID:-//ChamberMaster//Event Calendar 2.0//EN
METHOD:PUBLISH
X-PUBLISHED-TTL:P3D
REFRESH-INTERVAL:P3D
CALSCALE:GREGORIAN
BEGIN:VEVENT
DTSTART:20230620T180000Z
DTEND:20230620T214500Z
X-MICROSOFT-CDO-ALLDAYEVENT:FALSE
SUMMARY:SOMO Village Blood Drive
DESCRIPTION:Community Blood Drive\n\n\n\nTo make an appointment\, visit our website. Use your unique blood drive code: SOMO
X-ALT-DESC;FMTTYPE=text/html:<br />\nCommunity Blood Drive<br />\n<br />\nTo make an appointment\, visit <a href="https://donors.vitalant.org/dwp/portal/dwa/appointment/guest/phl/timeSlotsExtr?token=nTP8dv1HgZfvHPYBf8HSCnBqN0vMTII21QcrIYFybHk%3D"><strong><span style="color:#0000FF\;">our website</span></strong></a>. Use your unique blood drive code: SOMO
LOCATION:Bloodmobile at SOMO Village
UID:e.3154.2709
SEQUENCE:3
DTSTAMP:20260423T110059Z
URL:https://www.rohnertparkchamber.org/events/details/somo-village-blood-drive-2709
END:VEVENT

END:VCALENDAR
