BEGIN:VCALENDAR
VERSION:2.0
PRODID:-//ChamberMaster//Event Calendar 2.0//EN
METHOD:PUBLISH
X-PUBLISHED-TTL:P3D
REFRESH-INTERVAL:P3D
CALSCALE:GREGORIAN
BEGIN:VEVENT
DTSTART:20260805T190000Z
DTEND:20260805T203000Z
X-MICROSOFT-CDO-ALLDAYEVENT:FALSE
SUMMARY:Save the Date - Noon Times Networking Luncheon
DESCRIPTION:
X-ALT-DESC;FMTTYPE=text/html:
LOCATION:SOMO Village Event Center Catered by Sally Tomatoes
UID:e.3154.3407
SEQUENCE:3
DTSTAMP:20260423T091556Z
URL:https://www.rohnertparkchamber.org/events/details/save-the-date-noon-times-networking-luncheon-3407
END:VEVENT

END:VCALENDAR
