BEGIN:VCALENDAR
VERSION:2.0
PRODID:-//ChamberMaster//Event Calendar 2.0//EN
METHOD:PUBLISH
X-PUBLISHED-TTL:P3D
REFRESH-INTERVAL:P3D
CALSCALE:GREGORIAN
BEGIN:VEVENT
DTSTART:20190926T010000Z
DTEND:20190926T030000Z
X-MICROSOFT-CDO-ALLDAYEVENT:FALSE
SUMMARY:Rohnert Park UGB Public Forum
DESCRIPTION:Get up to date on the renewal of Rohnert Park's Urban Growth Boundary and the upcoming special election where you'll vote on Measure B on November 5\, 2019\, at this public forum open to all!
X-ALT-DESC;FMTTYPE=text/html:Get up to date on the renewal of Rohnert Park&#39\;s Urban Growth Boundary and the upcoming special election where you&#39\;ll vote on Measure B on November 5\, 2019\, at this public forum open to all!
LOCATION:Rohnert Park-Cotati Regional Library
UID:e.3154.1464
SEQUENCE:3
DTSTAMP:20260422T144815Z
URL:https://www.rohnertparkchamber.org/events/details/rohnert-park-ugb-public-forum-1464
END:VEVENT

END:VCALENDAR
