BEGIN:VCALENDAR
VERSION:2.0
PRODID:-//ChamberMaster//Event Calendar 2.0//EN
METHOD:PUBLISH
X-PUBLISHED-TTL:P3D
REFRESH-INTERVAL:P3D
CALSCALE:GREGORIAN
BEGIN:VEVENT
DTSTART;VALUE=DATE:20200529
DTEND;VALUE=DATE:20200531
TRANSP:TRANSPARENT
X-MICROSOFT-CDO-ALLDAYEVENT:TRUE
SUMMARY:Project Graduation
DESCRIPTION:Project Graduation 9 PM-3 AM Clean up Saturday morning after event. Set up Wed-Friday to be ready for the party Friday night.
X-ALT-DESC;FMTTYPE=text/html:Project Graduation 9 PM-3 AM Clean up Saturday morning after event. Set up Wed-Friday to be ready for the party Friday night.
LOCATION:
UID:e.3154.1209
SEQUENCE:3
DTSTAMP:20260421T082152Z
URL:https://www.rohnertparkchamber.org/events/details/project-graduation-1209
END:VEVENT

END:VCALENDAR
