BEGIN:VCALENDAR
VERSION:2.0
PRODID:-//ChamberMaster//Event Calendar 2.0//EN
METHOD:PUBLISH
X-PUBLISHED-TTL:P3D
REFRESH-INTERVAL:P3D
CALSCALE:GREGORIAN
BEGIN:VEVENT
DTSTART:20190629T000000Z
DTEND:20190629T030000Z
X-MICROSOFT-CDO-ALLDAYEVENT:FALSE
SUMMARY:Party on the Plaza/Rohnert Park Farmer's Market
DESCRIPTION:Come see us at the Chamber of Commerce Booth at the Farmer's Market every Friday in June\, July and August! Bring your business cards to share with future visitors.
X-ALT-DESC;FMTTYPE=text/html:Come see us at the Chamber of Commerce Booth at the Farmer&#39\;s Market every Friday in June\, July and August! Bring your business cards to share with future visitors.&nbsp\;<br />\n<br />\n&nbsp\;
LOCATION:Party on the Plaza - Rohnert Park Farmer's Market 500 City Center Drive\, Rohnert Park\, CA 94928
UID:e.3154.1195
SEQUENCE:3
DTSTAMP:20260420T081055Z
URL:https://www.rohnertparkchamber.org/events/details/party-on-the-plaza-rohnert-park-farmer-s-market-06-28-2019-1195
END:VEVENT

END:VCALENDAR
