BEGIN:VCALENDAR
VERSION:2.0
PRODID:-//ChamberMaster//Event Calendar 2.0//EN
METHOD:PUBLISH
X-PUBLISHED-TTL:P3D
REFRESH-INTERVAL:P3D
CALSCALE:GREGORIAN
BEGIN:VEVENT
DTSTART:20191102T190000Z
DTEND:20191102T200000Z
X-MICROSOFT-CDO-ALLDAYEVENT:FALSE
SUMMARY:Parliament Brewing Company Grand Opening & Ribbon Cutting
DESCRIPTION:Come join Parliament Brewing Company and the Rohnert Park Chamber of Commerce for a Grand Opening & Ribbon Cutting at 5865 Labath Avenue. \n\n	Free to attend and Open to all 21 & Over\n	Beer available for purchase
X-ALT-DESC;FMTTYPE=text/html:Come join Parliament Brewing Company and the Rohnert&nbsp\;Park Chamber of Commerce&nbsp\;for a Grand Opening &amp\; Ribbon Cutting at 5865 Labath Avenue.&nbsp\;\n<ul>\n	<li>Free to attend and Open to all 21 &amp\; Over</li>\n	<li>Beer available for purchase</li>\n</ul>\n
LOCATION:5865 Labath Avenue Rohnert Park\, CA 94928
UID:e.3154.1481
SEQUENCE:3
DTSTAMP:20260422T173711Z
URL:https://www.rohnertparkchamber.org/events/details/parliament-brewing-company-grand-opening-ribbon-cutting-1481
END:VEVENT

END:VCALENDAR
