BEGIN:VCALENDAR
VERSION:2.0
PRODID:-//ChamberMaster//Event Calendar 2.0//EN
METHOD:PUBLISH
X-PUBLISHED-TTL:P3D
REFRESH-INTERVAL:P3D
CALSCALE:GREGORIAN
BEGIN:VEVENT
DTSTART:20190906T013000Z
DTEND:20190906T040000Z
X-MICROSOFT-CDO-ALLDAYEVENT:FALSE
SUMMARY:Paint Nite
DESCRIPTION:Grab your friends and unleash your inner artist at the Original Paint Nite. You'll go from a blank canvas to a masterpiece of your own\, with plenty of laughs along the way. Guided by a talented and entertaining artist\, you'll be amazed at what you create\, and how much fun you have doing it.
X-ALT-DESC;FMTTYPE=text/html:Grab your friends and unleash your inner artist at the Original Paint Nite. You&rsquo\;ll go from a blank canvas to a masterpiece of your own\, with plenty of laughs along the way. Guided by a talented and entertaining artist\, you&#39\;ll be amazed at what you create\, and how much fun you have doing it.
LOCATION:5000 Roberts Lake Road\, Rohnert Park\, 94928
UID:e.3154.1427
SEQUENCE:3
DTSTAMP:20260422T144613Z
URL:https://www.rohnertparkchamber.org/events/details/paint-nite-1427
END:VEVENT

END:VCALENDAR
