BEGIN:VCALENDAR
VERSION:2.0
PRODID:-//ChamberMaster//Event Calendar 2.0//EN
METHOD:PUBLISH
X-PUBLISHED-TTL:P3D
REFRESH-INTERVAL:P3D
CALSCALE:GREGORIAN
BEGIN:VEVENT
DTSTART:20191205T033000Z
DTEND:20191205T053000Z
X-MICROSOFT-CDO-ALLDAYEVENT:FALSE
SUMMARY:Opera Scenes
DESCRIPTION:Scenes from Mozart's comedic operas Don Giovanni\, Cosi fan tutte\, and The Marriage of Figaro performed in sparkling English translations. In addition to performing\, Opera Scenes students participate in all aspects of the production from staging to costumes to publicity.
X-ALT-DESC;FMTTYPE=text/html:Scenes from Mozart&rsquo\;s comedic operas Don Giovanni\, Cosi fan tutte\, and The Marriage of Figaro performed in sparkling English translations. In addition to performing\, Opera Scenes students participate in all aspects of the production from staging to costumes to publicity.
LOCATION:Green Music Center - Schroeder Hall
UID:e.3154.1508
SEQUENCE:3
DTSTAMP:20260422T184517Z
URL:https://www.rohnertparkchamber.org/events/details/opera-scenes-1508
END:VEVENT

END:VCALENDAR
