BEGIN:VCALENDAR
VERSION:2.0
PRODID:-//ChamberMaster//Event Calendar 2.0//EN
METHOD:PUBLISH
X-PUBLISHED-TTL:P3D
REFRESH-INTERVAL:P3D
CALSCALE:GREGORIAN
BEGIN:VEVENT
DTSTART:20191003T230000Z
DTEND:20191004T000000Z
X-MICROSOFT-CDO-ALLDAYEVENT:FALSE
SUMMARY:North Bay Credit Union Grand Opening & Ribbon Cutting
DESCRIPTION:Come join North Bay Credit Union and the Rohnert Park Chamber of Commerce for a Grand Opening & Ribbon Cutting at 101 Golf Course Drive Suite A4. \n\n	Free to attend and Open to all\n	Complimentary refreshments
X-ALT-DESC;FMTTYPE=text/html:Come join North Bay Credit Union and the Rohnert&nbsp\;Park Chamber of Commerce&nbsp\;for a Grand Opening &amp\; Ribbon Cutting at 101 Golf Course Drive Suite A4.&nbsp\;\n<ul>\n	<li>Free to attend and Open to all</li>\n	<li>Complimentary refreshments</li>\n</ul>\n
LOCATION:101 Golf Course Drive Ste. A4 Rohnert Park\, CA 94928
UID:e.3154.1460
SEQUENCE:3
DTSTAMP:20260422T160451Z
URL:https://www.rohnertparkchamber.org/events/details/north-bay-credit-union-grand-opening-ribbon-cutting-1460
END:VEVENT

END:VCALENDAR
