BEGIN:VCALENDAR
VERSION:2.0
PRODID:-//ChamberMaster//Event Calendar 2.0//EN
METHOD:PUBLISH
X-PUBLISHED-TTL:P3D
REFRESH-INTERVAL:P3D
CALSCALE:GREGORIAN
BEGIN:VEVENT
DTSTART:20260401T190000Z
DTEND:20260401T203000Z
X-MICROSOFT-CDO-ALLDAYEVENT:FALSE
SUMMARY:Noon Times Networking Luncheon - Sponsored by Mountain Mike's Pizza
DESCRIPTION:Join us for our April Noon Times Networking Luncheon sponsored Mountain Mike's Pizza. Our luncheons are now held at SOMO Village Event Center catered by Sally Tomatoes.\n\n\n\nOur Noon Times events are a great opportunity to network while enjoying a talented guest speaker and a delicious catered buffet lunch.\n\n\n\nMembers & 1st Time Guests $35 / Future Members $45\n\nRegister by Friday\, March 27 & Save $5\n\n	Mountain Mike's Pizza - Event Sponsor\n	Sharon Bricker-Ferris\, Primerica - Event MC\n	SoCo In Bloom - Centerpiece Donor\n\nFeatured Speakers:\n\nMichelle Leisen\, Director at Read On\, Sonoma & Dr. Amie Carter\, County Superintendent at Sonoma County Office of Education.\n\n\n\nLearn how Read On\, Sonoma and the Sonoma County Office of Education are positively impacting literacy in Sonoma County.\n\n\n\nWhat's on the Menu?\n\nGrilled Flatbread with Olive Pesto\n\nCaprese Salad\n\nMushroom Risotto\n\nFresh Asparagus with Extra Virgin Olive Oil\n\nRoast Carved Leg of Lamb with Mint Pesto\n\nCarved Honey Ham\n\nTiramisu
X-ALT-DESC;FMTTYPE=text/html:<br />\nJoin us for our April Noon Times Networking Luncheon sponsored Mountain Mike&#39\;s Pizza. Our luncheons are now held at SOMO Village Event Center catered by Sally Tomatoes.<br />\n<br />\nOur Noon Times events are a great opportunity to network while enjoying a talented guest speaker and a delicious catered buffet lunch.<br />\n<br />\nMembers &amp\; 1st Time Guests $35 / Future Members $45<br />\nRegister by Friday\, March 27 &amp\; Save $5\n<ul>\n	<li>Mountain Mike&#39\;s Pizza&nbsp\;- Event Sponsor</li>\n	<li>Sharon Bricker-Ferris\, Primerica&nbsp\;- Event MC</li>\n	<li>SoCo In Bloom - Centerpiece Donor</li>\n</ul>\nFeatured Speakers:<br />\nMichelle Leisen\, Director at Read On\, Sonoma &amp\; Dr. Amie Carter\, County Superintendent at Sonoma County Office of Education.<br />\n<br />\nLearn how Read On\, Sonoma and the Sonoma County Office of Education are positively impacting literacy in Sonoma County.<br />\n<br />\nWhat&#39\;s on the Menu?<br />\nGrilled Flatbread with Olive Pesto<br />\nCaprese Salad<br />\nMushroom Risotto<br />\nFresh Asparagus with Extra Virgin Olive Oil<br />\nRoast Carved Leg of Lamb with Mint Pesto<br />\nCarved Honey Ham<br />\nTiramisu<br />\n&nbsp\;
LOCATION:SOMO Village Event Center Catered Buffet Lunch by Sally Tomatoes
UID:e.3154.3435
SEQUENCE:3
DTSTAMP:20260424T130331Z
URL:https://www.rohnertparkchamber.org/events/details/noon-times-networking-luncheon-sponsored-by-mountain-mike-s-pizza-3435
END:VEVENT

END:VCALENDAR
