BEGIN:VCALENDAR
VERSION:2.0
PRODID:-//ChamberMaster//Event Calendar 2.0//EN
METHOD:PUBLISH
X-PUBLISHED-TTL:P3D
REFRESH-INTERVAL:P3D
CALSCALE:GREGORIAN
BEGIN:VEVENT
DTSTART:20191204T194500Z
DTEND:20191204T213000Z
X-MICROSOFT-CDO-ALLDAYEVENT:FALSE
SUMMARY:Noon Times Networking Luncheon - Sponsored by Henley & Mann Dental Office
DESCRIPTION:Come join the Rohnert Park Chamber of Commerce for our monthly Noon Times Luncheon! Typically attended by 50-70+ local businesses\, officials\, and organizations\, our Noon Times events are a great opportunity to network while enjoying talented guest speakers and a delicious catered lunch. Bring a raffle prize and advertise your business.\n\n\n\nThis month's Noon Times Luncheon is brought to you by:\n\n	Henley & Mann Dental Office\, Event Sponsor\n	Cathy Slack\, Amaturo Sonoma Media\, Event MC\n\nOur December Noon Times Luncheon features the following speakers:\n\n\n	Rohnert Park Public Safety Officers Local Toy Drive \n	\n		Please Bring an unwrapped gift\n	\n	\n	Plus a surprise guest and a special performance!
X-ALT-DESC;FMTTYPE=text/html:Come join the Rohnert Park Chamber of Commerce for our monthly Noon Times Luncheon! Typically attended by 50-70+ local businesses\, officials\, and organizations\, our Noon Times events are a great opportunity to network while enjoying talented guest speakers and a delicious catered lunch.&nbsp\;Bring a raffle prize and advertise your business.<br />\n<br />\nThis month&#39\;s Noon Times Luncheon is brought to you by:\n<ul>\n	<li>Henley &amp\; Mann Dental Office\, Event Sponsor</li>\n	<li>Cathy Slack\, Amaturo Sonoma Media\, Event MC</li>\n</ul>\nOur December Noon Times Luncheon features the following speakers:\n\n<ul>\n	<li>Rohnert Park Public Safety Officers Local Toy Drive&nbsp\;\n	<ul>\n		<li><em>Please Bring an unwrapped gift</em></li>\n	</ul>\n	</li>\n	<li>Plus a surprise guest and a special performance!</li>\n</ul>\n&nbsp\;
LOCATION:Fairview at Foxtail Golf Club 100 Golf Course Dr\, Rohnert Park\, CA 94928
UID:e.3154.599
SEQUENCE:3
DTSTAMP:20260422T184805Z
URL:https://www.rohnertparkchamber.org/events/details/noon-times-networking-luncheon-sponsored-by-henley-mann-dental-office-599
END:VEVENT

END:VCALENDAR
