BEGIN:VCALENDAR
VERSION:2.0
PRODID:-//ChamberMaster//Event Calendar 2.0//EN
METHOD:PUBLISH
X-PUBLISHED-TTL:P3D
REFRESH-INTERVAL:P3D
CALSCALE:GREGORIAN
BEGIN:VEVENT
DTSTART:20190904T184500Z
DTEND:20190904T203000Z
X-MICROSOFT-CDO-ALLDAYEVENT:FALSE
SUMMARY:Noon Times Networking Luncheon - Sponsored by Fundemonium
DESCRIPTION:Come join the Rohnert Park Chamber of Commerce for our monthly Noon Times Luncheon! Typically attended by 50-70+ local businesses\, officials\, and organizations\, our Noon Times events are a great opportunity to network while enjoying talented guest speakers and a delicious catered lunch. Bring a raffle prize and advertise your business.\n\n\n\nThis month's Noon Times Luncheon is brought to you by:\n\n	Fundemonium\, Event Sponsor\n	Casey Williams\, Recology Sonoma Marin\, Event MC\n\nOur September Noon Times Luncheon features the following speakers:\n\n\n	Adam Spiegel\, Founder & Whiskey Maker\, Sonoma Distilling Company\n	Crista Nelson\, Senior Advocacy Services \n\n September Noon Times Flyer
X-ALT-DESC;FMTTYPE=text/html:Come join the Rohnert Park Chamber of Commerce for our monthly Noon Times Luncheon! Typically attended by 50-70+ local businesses\, officials\, and organizations\, our Noon Times events are a great opportunity to network while enjoying talented guest speakers and a delicious catered lunch.&nbsp\;Bring a raffle prize and advertise your business.<br />\n<br />\nThis month&#39\;s Noon Times Luncheon is brought to you by:\n<ul>\n	<li>Fundemonium\, Event Sponsor</li>\n	<li>Casey Williams\, Recology Sonoma Marin\, Event MC</li>\n</ul>\nOur September Noon Times Luncheon features the following speakers:\n\n<ul>\n	<li>Adam Spiegel\, Founder &amp\; Whiskey Maker\, Sonoma Distilling Company</li>\n	<li>Crista Nelson\, Senior Advocacy Services&nbsp\;</li>\n</ul>\n&nbsp\;<a href="https://chambermaster.blob.core.windows.net/userfiles/UserFiles/chambers/3154/File/September2019NTFlyernewfillable.pdf">September Noon Times Flyer</a>
LOCATION:Fairview at Foxtail Golf Club 100 Golf Course Dr\, Rohnert Park\, CA 94928
UID:e.3154.596
SEQUENCE:3
DTSTAMP:20260422T144706Z
URL:https://www.rohnertparkchamber.org/events/details/noon-times-networking-luncheon-sponsored-by-fundemonium-596
END:VEVENT

END:VCALENDAR
