BEGIN:VCALENDAR
VERSION:2.0
PRODID:-//ChamberMaster//Event Calendar 2.0//EN
METHOD:PUBLISH
X-PUBLISHED-TTL:P3D
REFRESH-INTERVAL:P3D
CALSCALE:GREGORIAN
BEGIN:VEVENT
DTSTART:20191002T184500Z
DTEND:20191002T203000Z
X-MICROSOFT-CDO-ALLDAYEVENT:FALSE
SUMMARY:Noon Times Networking Luncheon - Sponsored by Blake's Auto Body
DESCRIPTION:Come join the Rohnert Park Chamber of Commerce for our monthly Noon Times Luncheon! Typically attended by 50-70+ local businesses\, officials\, and organizations\, our Noon Times events are a great opportunity to network while enjoying talented guest speakers and a delicious catered lunch. Bring a raffle prize and advertise your business.\n\n\n\nThis month's Noon Times Luncheon is brought to you by:\n\n	Blake's Auto Body\, Event Sponsor\n	Aaron Johnson\, Public Safety Asst. Chief\, Event MC\n\nOur October Noon Times Luncheon features the following speakers:\n\n\n	Bob McGee\, President & COO of Straus Family Creamery\n	John Costa\, Public Affairs Manager PG&E\n\nClick Here for the October Noon Times Fillable Registration
X-ALT-DESC;FMTTYPE=text/html:Come join the Rohnert Park Chamber of Commerce for our monthly Noon Times Luncheon! Typically attended by 50-70+ local businesses\, officials\, and organizations\, our Noon Times events are a great opportunity to network while enjoying talented guest speakers and a delicious catered lunch.&nbsp\;Bring a raffle prize and advertise your business.<br />\n<br />\nThis month&#39\;s Noon Times Luncheon is brought to you by:\n<ul>\n	<li>Blake&#39\;s Auto Body\, Event Sponsor</li>\n	<li>Aaron Johnson\, Public Safety Asst. Chief\, Event MC</li>\n</ul>\nOur October Noon Times Luncheon features the following speakers:\n\n<ul>\n	<li>Bob McGee\, President &amp\; COO of Straus Family Creamery</li>\n	<li>John Costa\, Public Affairs Manager PG&amp\;E</li>\n</ul>\n<a href="https://chambermaster.blob.core.windows.net/userfiles/UserFiles/chambers/3154/File/October2019NTFlyerFillable.pdf">Click Here for the October Noon Times Fillable Registration</a> &nbsp\;
LOCATION:Fairview at Foxtail Golf Club 100 Golf Course Dr\, Rohnert Park\, CA 94928
UID:e.3154.597
SEQUENCE:3
DTSTAMP:20260422T160324Z
URL:https://www.rohnertparkchamber.org/events/details/noon-times-networking-luncheon-sponsored-by-blake-s-auto-body-597
END:VEVENT

END:VCALENDAR
