BEGIN:VCALENDAR
VERSION:2.0
PRODID:-//ChamberMaster//Event Calendar 2.0//EN
METHOD:PUBLISH
X-PUBLISHED-TTL:P3D
REFRESH-INTERVAL:P3D
CALSCALE:GREGORIAN
BEGIN:VEVENT
DTSTART:20191106T194500Z
DTEND:20191106T213000Z
X-MICROSOFT-CDO-ALLDAYEVENT:FALSE
SUMMARY:Noon Times Networking Luncheon - Sponsored by Amy's Drive Thru
DESCRIPTION:Come join the Rohnert Park Chamber of Commerce for our monthly Noon Times Luncheon! Typically attended by 50-70+ local businesses\, officials\, and organizations\, our Noon Times events are a great opportunity to network while enjoying talented guest speakers and a delicious catered lunch. Bring a raffle prize and advertise your business.\n\n\n\nThis month's Noon Times Luncheon is brought to you by:\n\n	Amy's Drive Thru\, Event Sponsor\n	Jeff Thomas\, Vernon Sales Promotion\, Event MC\n\nOur November Noon Times Luncheon features the following speakers:\n\n\n	Zero Waste Sonoma\n	Habitat for Humanity\n\n  Click Here for the November Noon Times Fillable Registration
X-ALT-DESC;FMTTYPE=text/html:Come join the Rohnert Park Chamber of Commerce for our monthly Noon Times Luncheon! Typically attended by 50-70+ local businesses\, officials\, and organizations\, our Noon Times events are a great opportunity to network while enjoying talented guest speakers and a delicious catered lunch.&nbsp\;Bring a raffle prize and advertise your business.<br />\n<br />\nThis month&#39\;s Noon Times Luncheon is brought to you by:\n<ul>\n	<li>Amy&#39\;s Drive Thru\, Event Sponsor</li>\n	<li>Jeff Thomas\, Vernon Sales Promotion\, Event MC</li>\n</ul>\nOur November Noon Times Luncheon features the following speakers:\n\n<ul>\n	<li>Zero Waste Sonoma</li>\n	<li>Habitat for Humanity</li>\n</ul>\n<a href="https://chambermaster.blob.core.windows.net/userfiles/UserFiles/chambers/3154/File/November2019NTFlyernewFillable.pdf">&nbsp\; Click Here for the November Noon Times Fillable Registration&nbsp\;</a>
LOCATION:Fairview at Foxtail Golf Club 100 Golf Course Dr\, Rohnert Park\, CA 94928
UID:e.3154.598
SEQUENCE:3
DTSTAMP:20260422T173011Z
URL:https://www.rohnertparkchamber.org/events/details/noon-times-networking-luncheon-sponsored-by-amy-s-drive-thru-598
END:VEVENT

END:VCALENDAR
