BEGIN:VCALENDAR
VERSION:2.0
PRODID:-//ChamberMaster//Event Calendar 2.0//EN
METHOD:PUBLISH
X-PUBLISHED-TTL:P3D
REFRESH-INTERVAL:P3D
CALSCALE:GREGORIAN
BEGIN:VEVENT
DTSTART:20240207T200000Z
DTEND:20240207T213000Z
X-MICROSOFT-CDO-ALLDAYEVENT:FALSE
SUMMARY:Noon Times Networking Luncheon - Sponsored by Amaturo Sonoma Media Group
DESCRIPTION:Join us for our February Noon Times Networking Luncheon! \n\n\n\nOur Noon Times events are a great opportunity to network while enjoying talented guest speakers and a delicious catered buffet lunch.\n\n\n\nRegister by Friday\, Feb 2 to take advantage of the Early Bird Discount and save $5 - Member & 1st Time Guest Rate - $30 / Non-Member Rate $40. After Feb 2 Member & 1st Time Guest Rate $35 / Non-Member Rate $45.\n\n	Lori Rooney - NorthBay biz Magazine - Event MC\n	Nothing Bundt Cakes Santa Rosa - Centerpiece Donor\n\nFeatured Speaker:\n\n\n\nChris Coursey\, Sonoma County Board of Supervisors - District 3
X-ALT-DESC;FMTTYPE=text/html:<br />\n<br />\nJoin us for our February Noon Times Networking Luncheon!&nbsp\;<br />\n<br />\nOur Noon Times events are a great opportunity to network while enjoying talented guest speakers and a delicious catered buffet lunch.<br />\n<br />\nRegister by Friday\, Feb 2 to take advantage of the Early Bird Discount and save $5 - Member &amp\; 1st Time Guest Rate - $30 / Non-Member Rate $40. After Feb 2 Member &amp\; 1st Time Guest Rate $35 / Non-Member Rate $45.\n<ul>\n	<li>Lori Rooney - NorthBay biz Magazine - Event MC</li>\n	<li>Nothing Bundt Cakes Santa Rosa&nbsp\;- Centerpiece Donor</li>\n</ul>\nFeatured Speaker:<br />\n<br />\nChris Coursey\, Sonoma County Board of Supervisors - District 3
LOCATION:Foxtail Golf Club Buffet lunch
UID:e.3154.2996
SEQUENCE:3
DTSTAMP:20260420T105612Z
URL:https://www.rohnertparkchamber.org/events/details/noon-times-networking-luncheon-sponsored-by-amaturo-sonoma-media-group-2996
END:VEVENT

END:VCALENDAR
