BEGIN:VCALENDAR
VERSION:2.0
PRODID:-//ChamberMaster//Event Calendar 2.0//EN
METHOD:PUBLISH
X-PUBLISHED-TTL:P3D
REFRESH-INTERVAL:P3D
CALSCALE:GREGORIAN
BEGIN:VEVENT
DTSTART:20191217T033000Z
DTEND:20191217T053000Z
X-MICROSOFT-CDO-ALLDAYEVENT:FALSE
SUMMARY:Noma Winds
DESCRIPTION:Noma Winds is the Sonoma State University Department of Music's premier youth wind ensemble. The group offers Sonoma County students a rich cultural and educational support group for high school instrumentalists currently enrolled in a band program\, are home-schooled or otherwise don't have access to a band program at their school. All current and recently graduated high school wind\, brass and percussionists are invited to join this free program.
X-ALT-DESC;FMTTYPE=text/html:Noma Winds is the Sonoma State University Department of Music&rsquo\;s premier youth wind ensemble. The group offers Sonoma County students a rich cultural and educational support group for high school instrumentalists currently enrolled in a band program\, are home-schooled or otherwise don&rsquo\;t have access to a band program at their school. All current and recently graduated high school wind\, brass and percussionists are invited to join this free program.
LOCATION:Green Music Center - Weill Hall
UID:e.3154.1515
SEQUENCE:3
DTSTAMP:20260422T184522Z
URL:https://www.rohnertparkchamber.org/events/details/noma-winds-1515
END:VEVENT

END:VCALENDAR
