BEGIN:VCALENDAR
VERSION:2.0
PRODID:-//ChamberMaster//Event Calendar 2.0//EN
METHOD:PUBLISH
X-PUBLISHED-TTL:P3D
REFRESH-INTERVAL:P3D
CALSCALE:GREGORIAN
BEGIN:VEVENT
DTSTART:20200110T230000Z
DTEND:20200111T000000Z
X-MICROSOFT-CDO-ALLDAYEVENT:FALSE
SUMMARY:New Member Orientation
DESCRIPTION:We are so excited that you are part of the Rohnert Park Chamber of Commerce! Now we want to make sure you get everything out of your chamber membership that you can. \n\nPlease accept our invitation to our New Member Orientation on Friday\, January 10 from 3-4pm. We encourage you to come early to network with other new chamber members. \n\nLight snacks and refreshments will be served\n\n\n\nThings to know:\n\n	Bring 12 business cards for the office\n	If you have rack cards\, please bring 12 of those too.\n	Bring your laptop or mobile device so together we can review your business listing on the chamber website to ensure you are maximizing it's potential. \n	Come with questions.
X-ALT-DESC;FMTTYPE=text/html:We are so excited that you are part of the Rohnert Park Chamber of Commerce! Now we want to make sure you get everything out of your chamber membership that you can.&nbsp\;<br />\nPlease accept our invitation to our New Member Orientation on Friday\, January 10 from 3-4pm. We encourage you to come early to network with other new chamber members.&nbsp\;<br />\nLight snacks and refreshments will be served<br />\n<br />\nThings to know:\n<ul>\n	<li>Bring 12 business cards for the office</li>\n	<li>If you have rack cards\, please bring 12 of those too.</li>\n	<li>Bring your laptop or mobile device so together we can review your business listing on the chamber website to ensure you are maximizing it&#39\;s potential.&nbsp\;</li>\n	<li>Come with questions.&nbsp\;</li>\n</ul>\n
LOCATION:Chamber Office 101 Golf Course Drive\, Suite C-7 Rohnert Park\, Ca 94928
UID:e.3154.1527
SEQUENCE:3
DTSTAMP:20260422T201124Z
URL:https://www.rohnertparkchamber.org/events/details/new-member-orientation-1527
END:VEVENT

END:VCALENDAR
