BEGIN:VCALENDAR
VERSION:2.0
PRODID:-//ChamberMaster//Event Calendar 2.0//EN
METHOD:PUBLISH
X-PUBLISHED-TTL:P3D
REFRESH-INTERVAL:P3D
CALSCALE:GREGORIAN
BEGIN:VEVENT
DTSTART:20191204T033000Z
DTEND:20191204T053000Z
X-MICROSOFT-CDO-ALLDAYEVENT:FALSE
SUMMARY:Music Theatre Scenes
DESCRIPTION:Voice students collaborate to create a brand-new staged\, choreographed musical on a selected theme using favorite songs. Directed by Dr. Lynne Morrow\, director of opera and music theatre.
X-ALT-DESC;FMTTYPE=text/html:Voice students collaborate to create a brand-new staged\, choreographed musical on a selected theme using favorite songs. Directed by Dr. Lynne Morrow\, director of opera and music theatre.
LOCATION:Green Music Center - Schroeder Hall
UID:e.3154.1507
SEQUENCE:3
DTSTAMP:20260422T184644Z
URL:https://www.rohnertparkchamber.org/events/details/music-theatre-scenes-1507
END:VEVENT

END:VCALENDAR
