BEGIN:VCALENDAR
VERSION:2.0
PRODID:-//ChamberMaster//Event Calendar 2.0//EN
METHOD:PUBLISH
X-PUBLISHED-TTL:P3D
REFRESH-INTERVAL:P3D
CALSCALE:GREGORIAN
BEGIN:VEVENT
DTSTART:20191011T000000Z
DTEND:20191011T020000Z
X-MICROSOFT-CDO-ALLDAYEVENT:FALSE
SUMMARY:Mixer for Rohnert Park UGB - Measure B
DESCRIPTION:We're having a Measure B Campaign Mixer to ensure members of the community have a chance to learn more about why it is critical to renew Rohnert Park's urban growth boundary. Appetizers will be donated and there will be a no-host bar. Donations are welcome.
X-ALT-DESC;FMTTYPE=text/html:We&#39\;re having a Measure B Campaign Mixer to ensure members of the community have a chance to learn more about why it is critical to renew Rohnert Park&#39\;s urban growth boundary. Appetizers will be donated and there will be a no-host bar. Donations are welcome.
LOCATION:Sally Tomatoes\, Sonoma Mountain Village
UID:e.3154.1466
SEQUENCE:3
DTSTAMP:20260422T160312Z
URL:https://www.rohnertparkchamber.org/events/details/mixer-for-rohnert-park-ugb-measure-b-1466
END:VEVENT

END:VCALENDAR
