BEGIN:VCALENDAR
VERSION:2.0
PRODID:-//ChamberMaster//Event Calendar 2.0//EN
METHOD:PUBLISH
X-PUBLISHED-TTL:P3D
REFRESH-INTERVAL:P3D
CALSCALE:GREGORIAN
BEGIN:VEVENT
DTSTART:20191119T170000Z
DTEND:20191119T193000Z
X-MICROSOFT-CDO-ALLDAYEVENT:FALSE
SUMMARY:Live Webinar: Wage and Hour Law for Nevada Employers
DESCRIPTION:This live and interactive webinar is presented by Sutton Hague Law Corporation attorneys\, Brett Sutton and Jared Hague. Topics will include Employee Classifications and Exemptions\, Paying Wages and Overtime\, Meal and Rest Period Rules\, Record-keeping Requirements\, Developing Issues in Wage and Hour Law\, Wage and Hour Compliance Tips\, and Arbitration Agreements/Class Action Waivers. HRCI/SHRM/APA credit will be available. Certificates will be provided upon completion of the event for all attendees. This event is sponsored by LP Insurance.
X-ALT-DESC;FMTTYPE=text/html:This live and interactive webinar is presented by Sutton Hague Law Corporation attorneys\, Brett Sutton and Jared Hague. Topics will include Employee Classifications and Exemptions\, Paying Wages and Overtime\, Meal and Rest Period Rules\, Record-keeping Requirements\, Developing Issues in Wage and Hour Law\, Wage and Hour Compliance Tips\, and Arbitration Agreements/Class Action Waivers. HRCI/SHRM/APA credit will be available. Certificates will be provided upon completion of the event for all attendees. This event is sponsored by LP Insurance.
LOCATION:Online\, participants will join via computer
UID:e.3154.1489
SEQUENCE:3
DTSTAMP:20260422T173550Z
URL:https://www.rohnertparkchamber.org/events/details/live-webinar-wage-and-hour-law-for-nevada-employers-1489
END:VEVENT

END:VCALENDAR
