BEGIN:VCALENDAR
VERSION:2.0
PRODID:-//ChamberMaster//Event Calendar 2.0//EN
METHOD:PUBLISH
X-PUBLISHED-TTL:P3D
REFRESH-INTERVAL:P3D
CALSCALE:GREGORIAN
BEGIN:VEVENT
DTSTART:20191112T190000Z
DTEND:20191112T200000Z
X-MICROSOFT-CDO-ALLDAYEVENT:FALSE
SUMMARY:LIVE WEBINAR: Mandatory 1-Hour Harassment Prevention Training for Non-Managers/Non-Supervisors (SPANISH LANGUAGE)
DESCRIPTION:This a live webinar and participants will join via computer. This webinar will provide training required by CA law for non manager/non supervisors. It will be presented by Sutton Hague Law Corporation attorney\, Evelin Bailey\, in the Spanish Language. The webinar is also live and interactive! HRCI/SHRM Credits are also available. Participants will receive certificates.
X-ALT-DESC;FMTTYPE=text/html:This a live webinar and participants will join via computer. This webinar will provide training required by CA law for non manager/non supervisors. It will be presented by Sutton Hague Law Corporation attorney\, Evelin Bailey\, in the Spanish Language. The webinar is also live and interactive! HRCI/SHRM Credits are also available. Participants will receive certificates.
LOCATION:Online\, participants will join via computer
UID:e.3154.1470
SEQUENCE:3
DTSTAMP:20260421T081656Z
URL:https://www.rohnertparkchamber.org/events/details/live-webinar-mandatory-1-hour-harassment-prevention-training-for-non-managers-non-supervisors-spanish-language-11-12-2019-1470
END:VEVENT

END:VCALENDAR
