BEGIN:VCALENDAR
VERSION:2.0
PRODID:-//ChamberMaster//Event Calendar 2.0//EN
METHOD:PUBLISH
X-PUBLISHED-TTL:P3D
REFRESH-INTERVAL:P3D
CALSCALE:GREGORIAN
BEGIN:VEVENT
DTSTART:20191213T180000Z
DTEND:20191213T190000Z
X-MICROSOFT-CDO-ALLDAYEVENT:FALSE
SUMMARY:LIVE WEBINAR: Mandatory 1-Hour Harassment Prevention Training for Non-Managers/Non-Supervisors
DESCRIPTION:New California Law (SB 1343 and SB 778) requires that both managerial and non-managerial employees must receive sexual harassment training by January 1\, 2021. Thereafter\, employees must be retrained once every two years. The training will meet all requirements for mandatory training under CA Law. Certificates will be issued. This is a live and interactive webinar\, participants will join via computer. It will be presented by Sutton Hague Law Corporation attorney\, Jared Hague. Participants will receive certificates. HRCI/SHRM Credits are also available.
X-ALT-DESC;FMTTYPE=text/html:New California Law (SB 1343 and SB 778) requires that both managerial and non-managerial employees must receive sexual harassment training by January 1\, 2021. Thereafter\, employees must be retrained once every two years. The training will meet all requirements for mandatory training under CA Law. Certificates will be issued. This is a live and interactive webinar\, participants will join via computer. It will be presented by Sutton Hague Law Corporation attorney\, Jared Hague. Participants will receive certificates. HRCI/SHRM Credits are also available.
LOCATION:Online\, participants will join via computer
UID:e.3154.1503
SEQUENCE:3
DTSTAMP:20260422T184814Z
URL:https://www.rohnertparkchamber.org/events/details/live-webinar-mandatory-1-hour-harassment-prevention-training-for-non-managers-non-supervisors-12-13-2019-1503
END:VEVENT

END:VCALENDAR
