BEGIN:VCALENDAR
VERSION:2.0
PRODID:-//ChamberMaster//Event Calendar 2.0//EN
METHOD:PUBLISH
X-PUBLISHED-TTL:P3D
REFRESH-INTERVAL:P3D
CALSCALE:GREGORIAN
BEGIN:VEVENT
DTSTART:20191204T200000Z
DTEND:20191204T213000Z
X-MICROSOFT-CDO-ALLDAYEVENT:FALSE
SUMMARY:LIVE WEBINAR: Employment Law Update for Nevada Employers for 2020
DESCRIPTION:This is a live webinar presented by Attorneys Brett Sutton and Jared Hague\, of Sutton Hague Law Corporation. SHLC Attorneys will discuss important employment law updates for Nevada Employers.
X-ALT-DESC;FMTTYPE=text/html:This is a live webinar presented by Attorneys Brett Sutton and Jared Hague\, of Sutton Hague Law Corporation. SHLC Attorneys will discuss important employment law updates for Nevada Employers.
LOCATION:Online\, participants will join via computer
UID:e.3154.1504
SEQUENCE:3
DTSTAMP:20260422T184846Z
URL:https://www.rohnertparkchamber.org/events/details/live-webinar-employment-law-update-for-nevada-employers-for-2020-1504
END:VEVENT

END:VCALENDAR
