BEGIN:VCALENDAR
VERSION:2.0
PRODID:-//ChamberMaster//Event Calendar 2.0//EN
METHOD:PUBLISH
X-PUBLISHED-TTL:P3D
REFRESH-INTERVAL:P3D
CALSCALE:GREGORIAN
BEGIN:VEVENT
DTSTART:20191229T040000Z
DTEND:20191229T070000Z
X-MICROSOFT-CDO-ALLDAYEVENT:FALSE
SUMMARY:Larry "Bubbles" Brown Live Album Recording
DESCRIPTION:After 35+ years of stand-up comedy\, Larry "Bubbles" Brown is recording his first (and probably last) album ever! Tickets - $10 Presale / $15 Door (Cash Only) / $30 VIP** Doors - 6:30 PM Show - 8:00 PM **Dinner & Show VIP Tickets - Early Entry (6 pm)\, Includes "BBQ Buffet" (BBQ Chicken\, Ribs\, Salads\, and More)\, seating at one of our VIP tables. FastLayne Comedy Presents\, in association with You Lucky Dog Productions & Barrel Proof Comedy\, a night of laughs to be remembered forever!
X-ALT-DESC;FMTTYPE=text/html:After 35+ years of stand-up comedy\, Larry &quot\;Bubbles&quot\; Brown is recording his first (and probably last) album ever! Tickets - $10 Presale / $15 Door (Cash Only) / $30 VIP** Doors - 6:30 PM Show - 8:00 PM **Dinner &amp\; Show VIP Tickets - Early Entry (6 pm)\, Includes &quot\;BBQ Buffet&quot\; (BBQ Chicken\, Ribs\, Salads\, and More)\, seating at one of our VIP tables. FastLayne Comedy Presents\, in association with You Lucky Dog Productions &amp\; Barrel Proof Comedy\, a night of laughs to be remembered forever!
LOCATION:Sally Tomatoes 1100 Valley House Dr\, Rohnert Park\, California\, 94928
UID:e.3154.1521
SEQUENCE:3
DTSTAMP:20260422T184708Z
URL:https://www.rohnertparkchamber.org/events/details/larry-bubbles-brown-live-album-recording-1521
END:VEVENT

END:VCALENDAR
