BEGIN:VCALENDAR
VERSION:2.0
PRODID:-//ChamberMaster//Event Calendar 2.0//EN
METHOD:PUBLISH
X-PUBLISHED-TTL:P3D
REFRESH-INTERVAL:P3D
CALSCALE:GREGORIAN
BEGIN:VEVENT
DTSTART:20191207T033000Z
DTEND:20191207T053000Z
X-MICROSOFT-CDO-ALLDAYEVENT:FALSE
SUMMARY:Jazz Orchestra
DESCRIPTION:An 18-piece big band specializing in the finest classic and modern repertoire\, directed by Doug Leibinger. Also featuring pieces composed by jazz students.
X-ALT-DESC;FMTTYPE=text/html:An 18-piece big band specializing in the finest classic and modern repertoire\, directed by Doug Leibinger. Also featuring pieces composed by jazz students.
LOCATION:Green Music Center - Weill Hall
UID:e.3154.1510
SEQUENCE:3
DTSTAMP:20260422T184520Z
URL:https://www.rohnertparkchamber.org/events/details/jazz-orchestra-1510
END:VEVENT

END:VCALENDAR
