BEGIN:VCALENDAR
VERSION:2.0
PRODID:-//ChamberMaster//Event Calendar 2.0//EN
METHOD:PUBLISH
X-PUBLISHED-TTL:P3D
REFRESH-INTERVAL:P3D
CALSCALE:GREGORIAN
BEGIN:VEVENT
DTSTART:20190905T000000Z
DTEND:20190905T030000Z
X-MICROSOFT-CDO-ALLDAYEVENT:FALSE
SUMMARY:Jake Mackenzie's 80th Birthday Open house
DESCRIPTION:Please come by and help us celebrate Jake's new decade (and new knee!). Absolutely no gifts\, please! Food and drinks on us...we'll be in the Tiki Bar and Patio. Open House...all welcome!
X-ALT-DESC;FMTTYPE=text/html:Please come by and help us celebrate Jake&#39\;s new decade (and new knee!). Absolutely no gifts\, please! Food and drinks on us...we&#39\;ll be in the Tiki Bar and Patio. Open House...all welcome!
LOCATION:Bear Flag Republic Brewery Rohnert Park
UID:e.3154.1453
SEQUENCE:3
DTSTAMP:20260422T144832Z
URL:https://www.rohnertparkchamber.org/events/details/jake-mackenzie-s-80th-birthday-open-house-1453
END:VEVENT

END:VCALENDAR
