BEGIN:VCALENDAR
VERSION:2.0
PRODID:-//ChamberMaster//Event Calendar 2.0//EN
METHOD:PUBLISH
X-PUBLISHED-TTL:P3D
REFRESH-INTERVAL:P3D
CALSCALE:GREGORIAN
BEGIN:VEVENT
DTSTART:20191213T200000Z
DTEND:20191213T220000Z
X-MICROSOFT-CDO-ALLDAYEVENT:FALSE
SUMMARY:Instrumental Repertoire
DESCRIPTION:Join us for the third in the series of Instrumental Repertoire performances. Each of our talented musicians is required to take the stage and share their skills. This matinee performance will feature some of our up-and-coming instrumentalists. Each of the monthly concerts features a selection of pieces and performers. This is a FREE CONCERT. No tickets required. Check our website: sonoma.music.edu for updates.
X-ALT-DESC;FMTTYPE=text/html:Join us for the third in the series of Instrumental Repertoire performances. Each of our talented musicians is required to take the stage and share their skills. This matinee performance will feature some of our up-and-coming instrumentalists. Each of the monthly concerts features a selection of pieces and performers. This is a FREE CONCERT. No tickets required. Check our website: sonoma.music.edu for updates.
LOCATION:Green Music Center - Schroeder Hall
UID:e.3154.1514
SEQUENCE:3
DTSTAMP:20260422T184600Z
URL:https://www.rohnertparkchamber.org/events/details/instrumental-repertoire-1514
END:VEVENT

END:VCALENDAR
