BEGIN:VCALENDAR
VERSION:2.0
PRODID:-//ChamberMaster//Event Calendar 2.0//EN
METHOD:PUBLISH
X-PUBLISHED-TTL:P3D
REFRESH-INTERVAL:P3D
CALSCALE:GREGORIAN
BEGIN:VEVENT
DTSTART:20191115T193000Z
DTEND:20191115T220000Z
X-MICROSOFT-CDO-ALLDAYEVENT:FALSE
SUMMARY:Information Security: Responsible Business Practices for the Information Age
DESCRIPTION:Join Metamorphosis IT Solutions and the Rohnert Park Chamber of Commerce at the Information Security: Responsible Business Practices for the Information Age Workshop.  This workshop will be taught by Eric Ribner\, MSCE\, LPIC1. \n\n\n\nYou will learn:\n\n	The real definition and meaning of 'information security' (it doesn't mean what you think it means!)\;\n	Where the biggest security danger to you and your clients actually originates\;\n	Why there's no such thing as a business that's 'too small to target'\;\n	What a smart information security strategy looks like\, what it involves and how to start creating yours\;\n	How to improve the security of your data with one simple practice (that's standard in enterprise settings)\;\n	And many other topics!
X-ALT-DESC;FMTTYPE=text/html:Join Metamorphosis IT Solutions and the Rohnert Park Chamber of Commerce at the Information Security: Responsible Business Practices for the Information Age Workshop.&nbsp\; This workshop will be taught by Eric Ribner\, MSCE\, LPIC1.&nbsp\;<br />\n<br />\n<strong>You will learn:</strong>\n<ul>\n	<li>The real definition and meaning of &#39\;information security&#39\; (it doesn&#39\;t mean what you think it means!)\;</li>\n	<li>Where the biggest security danger to you and your clients actually originates\;</li>\n	<li>Why there&#39\;s no such thing as a business that&#39\;s &#39\;too small to target&#39\;\;</li>\n	<li>What a smart information security strategy looks like\, what it involves and how to start creating yours\;</li>\n	<li>How to improve the security of your data with one simple practice (that&#39\;s standard in enterprise settings)\;</li>\n	<li>And many other topics!</li>\n</ul>\n
LOCATION:Rohnert Park Chamber of Commerce 101 Golf Course Drive Suite C-7 Rohnert Park\, CA 94928
UID:e.3154.1482
SEQUENCE:3
DTSTAMP:20260422T172701Z
URL:https://www.rohnertparkchamber.org/events/details/information-security-responsible-business-practices-for-the-information-age-1482
END:VEVENT

END:VCALENDAR
