BEGIN:VCALENDAR
VERSION:2.0
PRODID:-//ChamberMaster//Event Calendar 2.0//EN
METHOD:PUBLISH
X-PUBLISHED-TTL:P3D
REFRESH-INTERVAL:P3D
CALSCALE:GREGORIAN
BEGIN:VEVENT
DTSTART:20191214T030000Z
DTEND:20191214T050000Z
X-MICROSOFT-CDO-ALLDAYEVENT:FALSE
SUMMARY:Heartwood Church Christmas Musical
DESCRIPTION:Ruth and her family are short on hope as Christmas draws near. Life for the students living in the orphanage next door is even less hopeful this Christmas. Soup kitchens like the Lord's Kitchen are meeting the needs of the youngest\, most vulnerable among us\, as the Great Depression grips the city. Churches and other faith communities spring into action to make life better for the orphans and meet the needs of the disenfranchised experiencing homelessness and hunger. Invite your friends and family to enjoy this message of hope as we visit the city of San Francisco int he year 1936. \n\n\n\nChristmas Offering - Let's make life better for the disenfranchised students experiencing homelessness and hunger in our local schools.
X-ALT-DESC;FMTTYPE=text/html:<span style="color:#006400\;">Ruth and her family are short on hope as Christmas draws near. Life for the students living in the orphanage next door is even less hopeful this Christmas. Soup kitchens like the Lord&#39\;s Kitchen are meeting the needs of the youngest\, most vulnerable among us\, as the Great Depression grips the city. Churches and other faith communities spring into action to make life better for the orphans and meet the needs of the disenfranchised experiencing homelessness and hunger. Invite your friends and family to enjoy this message of hope as we visit the city of San Francisco int he year 1936.&nbsp\;</span><br />\n<br />\n<span style="color:#B22222\;">Christmas Offering - Let&#39\;s make life better for the disenfranchised students experiencing homelessness and hunger in our local schools.&nbsp\;</span>
LOCATION:Heartwood Church 4689 Snyder Lane\, Rohnert Park
UID:e.3154.1520
SEQUENCE:3
DTSTAMP:20260422T184852Z
URL:https://www.rohnertparkchamber.org/events/details/heartwood-church-christmas-musical-1520
END:VEVENT

END:VCALENDAR
