BEGIN:VCALENDAR
VERSION:2.0
PRODID:-//ChamberMaster//Event Calendar 2.0//EN
METHOD:PUBLISH
X-PUBLISHED-TTL:P3D
REFRESH-INTERVAL:P3D
CALSCALE:GREGORIAN
BEGIN:VEVENT
DTSTART:20191020T180000Z
DTEND:20191020T220000Z
X-MICROSOFT-CDO-ALLDAYEVENT:FALSE
SUMMARY:Healdsburg Crush
DESCRIPTION:Please join us for a fun-filled day of wine tasting in the beautiful town of Healdsburg\, California. Stroll through the historic plaza while sampling from 60+ wineries as well as several local food vendors. This is a unique opportunity to try limited-production West Coast Pinot Noir\, Chardonnay\, Sparkling Wines\, and some long-time favorites all in one place. ?The event will also feature a silent auction boasting a large collection of locally produced Pinot Noir\, and raffles for instant wine cellars and premium large-format bottles. All proceeds benefit Boys & Girls Clubs of Sonoma-Marin (need not be present to win\, winner is responsible for shipping charges). ?This event is for guests 21+. Please\, no children\, strollers\, or pets.
X-ALT-DESC;FMTTYPE=text/html:Please join us for a fun-filled day of wine tasting in the beautiful town of Healdsburg\, California. Stroll through the historic plaza while sampling from 60+ wineries as well as several local food vendors. This is a unique opportunity to try limited-production West Coast Pinot Noir\, Chardonnay\, Sparkling Wines\, and some long-time favorites all in one place. ?The event will also feature a silent auction boasting a large collection of locally produced Pinot Noir\, and raffles for instant wine cellars and premium large-format bottles. All proceeds benefit Boys &amp\; Girls Clubs of Sonoma-Marin (need not be present to win\, winner is responsible for shipping charges). ?This event is for guests 21+. Please\, no children\, strollers\, or pets.
LOCATION:Healdsburg Plaza
UID:e.3154.1423
SEQUENCE:3
DTSTAMP:20260422T160146Z
URL:https://www.rohnertparkchamber.org/events/details/healdsburg-crush-1423
END:VEVENT

END:VCALENDAR
