BEGIN:VCALENDAR
VERSION:2.0
PRODID:-//ChamberMaster//Event Calendar 2.0//EN
METHOD:PUBLISH
X-PUBLISHED-TTL:P3D
REFRESH-INTERVAL:P3D
CALSCALE:GREGORIAN
BEGIN:VEVENT
DTSTART:20190906T003000Z
DTEND:20190906T020000Z
X-MICROSOFT-CDO-ALLDAYEVENT:FALSE
SUMMARY:Free Travel Presentation - Feat. Upcoming 2020 Trips
DESCRIPTION:Join the Rohnert Park Chamber of Commerce and Collette Travel for an exciting presentation featuring our newest upcoming 2020 trips:\n\n	Colors of Morocco\n	Canadian Rockies By Train\n	Spotlight on New York City\n	Colors of New England\n	Irish Splendor \n	Christmas on the Danube \n\nThis presentation is free to attend and open to all. Receive a discount on travel if you sign up during the meeting!
X-ALT-DESC;FMTTYPE=text/html:Join the Rohnert Park Chamber of Commerce and Collette Travel for an exciting presentation featuring our newest upcoming 2020 trips:\n<ul>\n	<li><a href="https://gateway.gocollette.com/link/951006">Colors of Morocco</a></li>\n	<li><a href="https://gateway.gocollette.com/link/949666">Canadian Rockies By Train</a></li>\n	<li><a href="https://gateway.gocollette.com/link/951012">Spotlight on New York City</a></li>\n	<li><a href="https://gateway.gocollette.com/link/949705">Colors of New England</a></li>\n	<li><a href="https://gateway.gocollette.com/link/951055">Irish Splendor&nbsp\;</a></li>\n	<li><a href="https://gateway.gocollette.com/link/970321">Christmas on the Danube&nbsp\;</a></li>\n</ul>\nThis presentation is free to attend and open to all. Receive a discount on travel if you sign up during the meeting!
LOCATION:Rohnert Park Chamber of Commerce 101 Golf Course Drive Suite C-7 Rohnert Park\, CA 94928
UID:e.3154.956
SEQUENCE:3
DTSTAMP:20260422T144840Z
URL:https://www.rohnertparkchamber.org/events/details/free-travel-presentation-feat-upcoming-2020-trips-956
END:VEVENT

END:VCALENDAR
