BEGIN:VCALENDAR
VERSION:2.0
PRODID:-//ChamberMaster//Event Calendar 2.0//EN
METHOD:PUBLISH
X-PUBLISHED-TTL:P3D
REFRESH-INTERVAL:P3D
CALSCALE:GREGORIAN
BEGIN:VEVENT
DTSTART:20191019T023000Z
DTEND:20191101T043000Z
X-MICROSOFT-CDO-ALLDAYEVENT:FALSE
SUMMARY:Frankenstein
DESCRIPTION:The Sonoma State University Symphonic Wind Ensemble will bring to life\, with music by composer Michael Shapiro\, James Whale's classic thriller Frankenstein! Starring Colin Clive and Boris Karloff in his debuting role as the Monster\, the 1931 classic film did not contain any incidental music. Thanks to composer Michael Shapiro\, that has changed! The SWE will perform his haunting 2002 score to accompany the screening of the film! Bring the popcorn and don your favorite costume\, because this event is going to be a scream!
X-ALT-DESC;FMTTYPE=text/html:The Sonoma State University Symphonic Wind Ensemble will bring to life\, with music by composer Michael Shapiro\, James Whale&rsquo\;s classic thriller Frankenstein! Starring Colin Clive and Boris Karloff in his debuting role as the Monster\, the 1931 classic film did not contain any incidental music. Thanks to composer Michael Shapiro\, that has changed! The SWE will perform his haunting 2002 score to accompany the screening of the film! Bring the popcorn and don your favorite costume\, because this event is going to be a scream!
LOCATION:Evert B. Person Theatre\, 1801 E. Cotati Ave.\, Rohnert Park\, CA 94928
UID:e.3154.1497
SEQUENCE:3
DTSTAMP:20260422T160052Z
URL:https://www.rohnertparkchamber.org/events/details/frankenstein-1497
END:VEVENT

END:VCALENDAR
