BEGIN:VCALENDAR
VERSION:2.0
PRODID:-//ChamberMaster//Event Calendar 2.0//EN
METHOD:PUBLISH
X-PUBLISHED-TTL:P3D
REFRESH-INTERVAL:P3D
CALSCALE:GREGORIAN
BEGIN:VEVENT
DTSTART:20230825T020000Z
DTEND:20230827T230000Z
X-MICROSOFT-CDO-ALLDAYEVENT:FALSE
SUMMARY:Flynn Creek Circus presents 'Desert Myth'
DESCRIPTION:FLYNN CREEK CIRCUS BRINGS ALL NEW SHOW TO ROHNERT PARK\n\n\n\nInternationally acclaimed Flynn Creek Circus returns to Rohnert Park with a super star line up in their all new show\, 'Desert Myth!'\n\n\n\nCome enjoy the spectacle under the big top tent August 17th through 20th\, 2023.\n\n\n\nFeaturing wild stunts and mind blowing skills\, 'Desert Myth' is an acrobatic thrill ride that draws on a rich history of traditional folklore. Flynn Creek Circus' distinctive presentation marked by high comedy\, modern creativity and playful absurdity promises to exceed expectations.\n\n\n\nFollow the Wanderer as he journeys into an imaginative desert land looking for an oasis. The Tourist\, The Cacti\, and the Sand Beings are some of the colorful characters he meets along the way.\n\n\n\nThis light hearted\, comedic tale reflects a thirst for truth in a desolate land of well meaning 'mis-guides'. World renown circus artists from Ukraine\, Canada and the United States will captivate audiences of all ages. Flynn Creek Circus' enchanting performances dazzle with unforgettable\, animal-free entertainment. Top level\, circus athletes will also share their expertise.\n\n\n\nThe show offering is accompanied by a circus camp from August 23-25 for children aged 7-15. Kids will learn aerial\, juggling and parkour skills with a three day workshop that will culminate in a public recital in the big top tent. Students will have a blast learning the basics or leveling up. All skill levels are welcome. More information and registration for the children's camps can be found at this link.\n\n\n\nIn addition to the family friendly showings and the interactive camp program\, Flynn Creek Circus also presents the wildly popular 'Adults Only Show' boasting outrageous acts\, dark comedy and an infamous party atmosphere at selected showtimes.\n\n\n\nSpectators for all showings are invited to the tent to experience the magic up to 40 minutes before each show. The event will offer beer\, wine and light concession for purchase and include a 15 minute intermission during the two hour show.
X-ALT-DESC;FMTTYPE=text/html:<br />\n<strong>FLYNN CREEK CIRCUS BRINGS ALL NEW SHOW TO ROHNERT PARK</strong><br />\n<br />\nInternationally acclaimed Flynn Creek Circus returns to Rohnert Park with a super star line up in their all new show\, &lsquo\;Desert Myth!&#39\;<br />\n<br />\nCome enjoy the spectacle under the big top tent August 17th through 20th\, 2023.<br />\n<br />\nFeaturing wild stunts and mind blowing skills\, &#39\;Desert Myth&#39\; is an acrobatic thrill ride that draws on a rich history of traditional folklore. Flynn Creek Circus&rsquo\; distinctive presentation marked by high comedy\, modern creativity and playful absurdity promises to exceed expectations.<br />\n<br />\nFollow the Wanderer as he journeys into an imaginative desert land looking for an oasis. The Tourist\, The Cacti\, and the Sand Beings are some of the colorful characters he meets along the way.<br />\n<br />\nThis light hearted\, comedic tale reflects a thirst for truth in a desolate land of well meaning &lsquo\;mis-guides&rsquo\;. World renown circus artists from Ukraine\, Canada and the United States will captivate audiences of all ages. Flynn Creek Circus&rsquo\; enchanting performances dazzle with unforgettable\, animal-free entertainment. Top level\, circus athletes will also share their expertise.<br />\n<br />\n<strong>The show offering is accompanied by a circus camp from August 23-25 for children aged 7-15.</strong> Kids will learn aerial\, juggling and parkour skills with a three day workshop that will culminate in a public recital in the big top tent. Students will have a blast learning the basics or leveling up. All skill levels are welcome. More information and registration for the children&rsquo\;s camps can be found at <strong><a href="http://flynncreekcircus.com"><span style="color:#0000FF\;">this link</span></a></strong>.<br />\n<br />\nIn addition to the family friendly showings and the interactive camp program\, Flynn Creek Circus also presents the wildly popular <strong>&lsquo\;Adults Only Show&rsquo\;</strong> boasting outrageous acts\, dark comedy and an infamous party atmosphere at selected showtimes.<br />\n<br />\nSpectators for all showings are invited to the tent to experience the magic up to 40 minutes before each show. The event will offer beer\, wine and light concession for purchase and include a 15 minute intermission during the two hour show.
LOCATION:UNDER THE BIG TOP Rohnert Park Expressway & State Farm Dr\, ROHNERT PARK\, CA\, 94928 US
UID:e.3154.2842
SEQUENCE:3
DTSTAMP:20260419T094330Z
URL:https://www.rohnertparkchamber.org/events/details/flynn-creek-circus-presents-desert-myth-2842
END:VEVENT

END:VCALENDAR
