BEGIN:VCALENDAR
VERSION:2.0
PRODID:-//ChamberMaster//Event Calendar 2.0//EN
METHOD:PUBLISH
X-PUBLISHED-TTL:P3D
REFRESH-INTERVAL:P3D
CALSCALE:GREGORIAN
BEGIN:VEVENT
DTSTART:20221113T220000Z
DTEND:20221114T010000Z
X-MICROSOFT-CDO-ALLDAYEVENT:FALSE
SUMMARY:Flowers & Jazz
DESCRIPTION:Benefiting the Santa Rosa Youth Orchestra and Youth Education Programs Presented by the Santa Rosa Symphony League Flowers & Jazz Featuring The JAMI JAMISON BAND - Limited Space - Buy Early - \n\n\n\nTicket $55 per person Includes - Buy Tickets on Eventbrite: https://www.eventbrite.com/e/flowers-jazz-tickets-442812563297?aff=ebdssbdestsearch\n\n	Refreshments\n	Two Drink Tickets\n	Silent Auction\n	Live Music & Dancing\n\nUnable to attend? Please consider a cash donation listed under 'Tickets' on Eventbrite.\n\n\n\n*Must be 21+ to attend
X-ALT-DESC;FMTTYPE=text/html:<br />\nBenefiting the Santa Rosa Youth Orchestra and Youth Education Programs Presented by the Santa Rosa Symphony League Flowers &amp\; Jazz Featuring The JAMI JAMISON BAND - Limited Space - Buy Early -&nbsp\;<br />\n<br />\nTicket $55 per person Includes - Buy Tickets on Eventbrite:&nbsp\;<strong><a href="https://www.eventbrite.com/e/flowers-jazz-tickets-442812563297?aff=ebdssbdestsearch"><span style="color:#0000FF\;">https://www.eventbrite.com/e/flowers-jazz-tickets-442812563297?aff=ebdssbdestsearch</span></a></strong>\n<ul>\n	<li>Refreshments</li>\n	<li>Two Drink Tickets</li>\n	<li>Silent Auction</li>\n	<li>Live Music &amp\; Dancing</li>\n</ul>\nUnable to attend? Please consider a cash donation listed under &#39\;Tickets&#39\; on Eventbrite.<br />\n<br />\n*Must be 21+ to attend
LOCATION:Point West Wholesale Flower Market
UID:e.3154.2595
SEQUENCE:3
DTSTAMP:20260419T123748Z
URL:https://www.rohnertparkchamber.org/events/details/flowers-jazz-2595
END:VEVENT

END:VCALENDAR
