BEGIN:VCALENDAR
VERSION:2.0
PRODID:-//ChamberMaster//Event Calendar 2.0//EN
METHOD:PUBLISH
X-PUBLISHED-TTL:P3D
REFRESH-INTERVAL:P3D
CALSCALE:GREGORIAN
BEGIN:VEVENT
DTSTART:20191029T003000Z
DTEND:20191029T020000Z
X-MICROSOFT-CDO-ALLDAYEVENT:FALSE
SUMMARY:Cancelled - After Hours Networking Mixer - Hosted by Bear Republic
DESCRIPTION:This event has been cancelled due to the impact of the fire.\n\n\n\nCome join Bear Republic and the Rohnert Park Chamber of Commerce for an After Hours networking mixer in collaboration with the California Police Activity League (CAL PAL)!\n\n	Complimentary appetizers\n	Free to attend and open to all\n	Raffle prizes
X-ALT-DESC;FMTTYPE=text/html:This event has been cancelled due to the impact of the fire.<br />\n<br />\nCome join Bear Republic and the Rohnert&nbsp\;Park Chamber of Commerce&nbsp\;for an After Hours networking mixer in collaboration with the California Police Activity League (CAL PAL)!\n<ul>\n	<li>Complimentary appetizers</li>\n	<li>Free to attend and open to all</li>\n	<li>Raffle prizes</li>\n</ul>\n
LOCATION:Hosted by Bear Republic 5000 Roberts Lake Road Rohnert Park\, CA 94928
UID:e.3154.965
SEQUENCE:3
DTSTAMP:20260422T160215Z
URL:https://www.rohnertparkchamber.org/events/details/cancelled-after-hours-networking-mixer-hosted-by-bear-republic-965
END:VEVENT

END:VCALENDAR
