BEGIN:VCALENDAR
VERSION:2.0
PRODID:-//ChamberMaster//Event Calendar 2.0//EN
METHOD:PUBLISH
X-PUBLISHED-TTL:P3D
REFRESH-INTERVAL:P3D
CALSCALE:GREGORIAN
BEGIN:VEVENT
DTSTART:20190921T193000Z
DTEND:20190922T000000Z
X-MICROSOFT-CDO-ALLDAYEVENT:FALSE
SUMMARY:Burning Ham BBQ Competition
DESCRIPTION:Burning Ham is a celebration of delicious pork and a fundraiser for Active 20-30 Rohnert Park. Proceeds go to helping underprivileged kids. In addition to whole pigs being roasted\, there will be a multi-category BBQ contest with baby back ribs\, pulled pork\, a bacon side dish's\, and bacon desserts.
X-ALT-DESC;FMTTYPE=text/html:Burning Ham is a celebration of delicious pork and a fundraiser for Active 20-30 Rohnert Park. Proceeds go to helping underprivileged kids. In addition to whole pigs being roasted\, there will be a multi-category BBQ contest with baby back ribs\, pulled pork\, a bacon side dish&#39\;s\, and bacon desserts.
LOCATION:Penngrove Park
UID:e.3154.1436
SEQUENCE:3
DTSTAMP:20260422T144627Z
URL:https://www.rohnertparkchamber.org/events/details/burning-ham-bbq-competition-1436
END:VEVENT

END:VCALENDAR
