BEGIN:VCALENDAR
VERSION:2.0
PRODID:-//ChamberMaster//Event Calendar 2.0//EN
METHOD:PUBLISH
X-PUBLISHED-TTL:P3D
REFRESH-INTERVAL:P3D
CALSCALE:GREGORIAN
BEGIN:VEVENT
DTSTART:20191109T210000Z
DTEND:20191110T010000Z
X-MICROSOFT-CDO-ALLDAYEVENT:FALSE
SUMMARY:Body\, Mind\, & Soul Expo
DESCRIPTION:The Body\, Mind & Soul Expo is a multi-exhibitor event focused on health and wellness. A first of its kind in Sonoma County\, the event is ALL FREE and will feature everything and anything related to the wellness of Sonoma County families and individuals. Get health screenings\, learn workout techniques\, enjoy a facial or massage\, experience alternative healthcare methods\, take a yoga class\, try new wellness products with 40 different exhibitors\, the list goes on and on!
X-ALT-DESC;FMTTYPE=text/html:The Body\, Mind &amp\; Soul Expo is a multi-exhibitor event focused on health and wellness. A first of its kind in Sonoma County\, the event is ALL FREE and will feature everything and anything related to the wellness of Sonoma County families and individuals. Get health screenings\, learn workout techniques\, enjoy a facial or massage\, experience alternative healthcare methods\, take a yoga class\, try new wellness products&hellip\;with 40 different exhibitors\, the list goes on and on!
LOCATION:Flamingo Conference Resort & Spa
UID:e.3154.1499
SEQUENCE:3
DTSTAMP:20260422T172705Z
URL:https://www.rohnertparkchamber.org/events/details/body-mind-soul-expo-1499
END:VEVENT

END:VCALENDAR
