BEGIN:VCALENDAR
VERSION:2.0
PRODID:-//ChamberMaster//Event Calendar 2.0//EN
METHOD:PUBLISH
X-PUBLISHED-TTL:P3D
REFRESH-INTERVAL:P3D
CALSCALE:GREGORIAN
BEGIN:VEVENT
DTSTART:20191006T170000Z
DTEND:20191006T190000Z
X-MICROSOFT-CDO-ALLDAYEVENT:FALSE
SUMMARY:Bicycle Ride and Roam Rohnert Park
DESCRIPTION:Join Greenbelt Alliance's North Bay Regional Director Teri Shore and community leaders on a bicycle ride to see how the city of Rohnert Park is protecting open space with its urban growth boundary. We'll pedal along paths and tree-lined streets with stops to view farmland\, trails\, new affordable homes\, and the SMART station.
X-ALT-DESC;FMTTYPE=text/html:Join Greenbelt Alliance&rsquo\;s North Bay Regional Director Teri Shore and community leaders on a bicycle ride to see how the city of Rohnert Park is protecting open space with its urban growth boundary. We&rsquo\;ll pedal along paths and tree-lined streets with stops to view farmland\, trails\, new affordable homes\, and the SMART station.
LOCATION:Meeting location provided with sign up.
UID:e.3154.1465
SEQUENCE:3
DTSTAMP:20260422T160313Z
URL:https://www.rohnertparkchamber.org/events/details/bicycle-ride-and-roam-rohnert-park-1465
END:VEVENT

END:VCALENDAR
