BEGIN:VCALENDAR
VERSION:2.0
PRODID:-//ChamberMaster//Event Calendar 2.0//EN
METHOD:PUBLISH
X-PUBLISHED-TTL:P3D
REFRESH-INTERVAL:P3D
CALSCALE:GREGORIAN
BEGIN:VEVENT
DTSTART:20200618T003000Z
DTEND:20200618T013000Z
X-MICROSOFT-CDO-ALLDAYEVENT:FALSE
SUMMARY:After Hours 'Virtual' Networking Mixer - Hosted by Napa-Sonoma SBDC
DESCRIPTION:Come join Napa-Sonoma Small Business Development Center (SBDC) and the Rohnert Park Chamber of Commerce for an After Hours 'Virtual' Networking Mixer! Due to the shelter-in-place\, we will be using Zoom - Mtg ID: 838 5493 9858 and Password: 421285. We will enable the waiting room\, so please make sure it's clear who you are so we can admit you into the mixer.\n\n	Free to attend and open to all\n	One chamber member will win an upgraded Enhanced Business Listing for twelve months\n	One attendee will win a bottle of wine from the Chamber
X-ALT-DESC;FMTTYPE=text/html:Come join Napa-Sonoma Small Business Development Center (SBDC) and the Rohnert&nbsp\;Park Chamber of Commerce&nbsp\;for an After Hours &#39\;Virtual&#39\; Networking Mixer! Due to the shelter-in-place\, we will be using Zoom - Mtg ID: 838 5493 9858 and Password: 421285. We will enable the waiting room\, so please make sure it&#39\;s clear who you are so we can admit you into the mixer.\n<ul>\n	<li>Free to attend and open to all</li>\n	<li>One chamber member will win an upgraded Enhanced Business Listing for twelve months</li>\n	<li>One attendee will win a bottle of wine from the Chamber</li>\n</ul>\n
LOCATION:Virtually held at your office or home Zoom Meeting Id: 838 5493 9858 Password: 421285 Please make sure it's clear who you are\, so we can admit you into the mixer.
UID:e.3154.1807
SEQUENCE:3
DTSTAMP:20260421T083750Z
URL:https://www.rohnertparkchamber.org/events/details/after-hours-virtual-networking-mixer-hosted-by-napa-sonoma-sbdc-1807
END:VEVENT

END:VCALENDAR
