BEGIN:VCALENDAR
VERSION:2.0
PRODID:-//ChamberMaster//Event Calendar 2.0//EN
METHOD:PUBLISH
X-PUBLISHED-TTL:P3D
REFRESH-INTERVAL:P3D
CALSCALE:GREGORIAN
BEGIN:VEVENT
DTSTART:20191017T003000Z
DTEND:20191017T020000Z
X-MICROSOFT-CDO-ALLDAYEVENT:FALSE
SUMMARY:After Hours Networking Mixer - Hosted by Red Lobster
DESCRIPTION:Come join Red Lobster and the Rohnert Park Chamber of Commerce for an After Hours networking mixer!\n\n	Complimentary appetizers & refreshments\n	Free to attend and open to all\n	Raffle prizes
X-ALT-DESC;FMTTYPE=text/html:Come join Red Lobster and the Rohnert&nbsp\;Park Chamber of Commerce&nbsp\;for an After Hours networking mixer!\n<ul>\n	<li>Complimentary appetizers &amp\; refreshments</li>\n	<li>Free to attend and open to all</li>\n	<li>Raffle prizes</li>\n</ul>\n
LOCATION:Hosted by Red Lobster 6440 Redwood Drive Rohnert Park\, CA 94928
UID:e.3154.1425
SEQUENCE:3
DTSTAMP:20260422T160216Z
URL:https://www.rohnertparkchamber.org/events/details/after-hours-networking-mixer-hosted-by-red-lobster-1425
END:VEVENT

END:VCALENDAR
